BEGIN:VCALENDAR
VERSION:2.0
PRODID:-//Arena Berlin - ECPv5.14.2.1//NONSGML v1.0//EN
CALSCALE:GREGORIAN
METHOD:PUBLISH
X-WR-CALNAME:Arena Berlin
X-ORIGINAL-URL:https://www.arena.berlin
X-WR-CALDESC:Veranstaltungen für Arena Berlin
BEGIN:VTIMEZONE
TZID:Europe/Berlin
BEGIN:DAYLIGHT
TZOFFSETFROM:+0100
TZOFFSETTO:+0200
TZNAME:CEST
DTSTART:20260329T010000
END:DAYLIGHT
BEGIN:STANDARD
TZOFFSETFROM:+0200
TZOFFSETTO:+0100
TZNAME:CET
DTSTART:20261025T010000
END:STANDARD
END:VTIMEZONE
BEGIN:VEVENT
DTSTART;TZID=Europe/Berlin:20261031T100000
DTEND;TZID=Europe/Berlin:20261031T180000
DTSTAMP:20260421T121340
CREATED:20260326T124023Z
LAST-MODIFIED:20260326T125404Z
UID:16602-1793440800-1793469600@www.arena.berlin
SUMMARY:BUCHBERLIN - Die Berliner Buchmesse
DESCRIPTION:Die BUCHBERLIN – die Berliner Buchmesse ist eine Publikumsmesse\, die jährlich mit mehreren tausend Besucherinnen und Besuchern stattfindet. Die unabhängigen Literaturszene präsentiert an rund 300 Ständen Bücher aus allen Genres\, vor allem im Bereich Unterhaltungsliteratur. Schwerpunkte sind Fantasy\, Romance und Krimi/Thriller. Zahlreiche Lesungen\, Vorträge und interaktive Veranstaltungen machen die BUCHBERLIN zur Bucherlebnismesse für die ganze Familie.
URL:https://www.arena.berlin/veranstaltung/buchberlin-die-berliner-buchmesse/
LOCATION:Arena Halle
ATTACH;FMTTYPE=image/jpeg:https://www.arena.berlin/wp-content/uploads/2026/03/Bild-Buch-Berlin_2026.jpg
GEO:52.4966473;13.4530078
END:VEVENT
END:VCALENDAR